{"text_format":"1","workbook":"xlsx","n_sheets":3,"sheets":["Sheet1","Sheet3","Sheet2"],"not_rendered":{"charts":0,"images":1,"macros":1,"external_links":0,"defined_names":58,"comments":0,"pivot_tables":0},"unopened":[],"bounds":{"document_bytes":16777216,"sheet_cells":100000,"rows_first":2000,"rows_last":500,"rows_between":2000,"halvings":0,"cell_chars":16384,"cell_head_chars":4096},"cells_cut":0,"cells_raw":0,"read":"whole","date_system":"1900"}

{"sheet":"Sheet1","index":0,"n_rows":39,"n_cols":16,"rows_kept":39,"cut":false,"hidden":false,"merged":[]}
["Pellet Feed Rate",10000,"kg/s"]
["Bed void fraction",0.35]
["Pellet diameter/m",{"$f":"CONVERT(0.5,\"in\",\"m\")","v":1.2699999999999999E-2},null,null,null,0]
[]
["mass flow rates","kg/s",null,"Pressures","Pa",null,"Split one","Split two"]
["m_0",560.21056108089601,null,"P_0",{"$f":"CONVERT(1,\"atm\",\"Pa\")","v":101325},"Stream 6",{"$f":"m_2/(m_1+m_2)","v":0.53564112229849858},{"$f":"m_3/(m_5+m_4+m_3)","v":0.33333333885049332},"Stream 10",null,null,null,null,null,null,{"$f":"P12-G14","v":101325.00000003305}]
["m_1",260.13874744055204,null,"P_1",{"$f":"CONVERT(1,\"atm\",\"Pa\")","v":101325},"Stream 3",null,{"$f":"m_4/(m_5+m_4+m_3)","v":0.33333332229297402},"Stream 9"]
["m_2",300.07181368448823,null,"P_2",101325,null,null,{"$f":"m_5/(m_5+m_4+m_3)","v":0.33333333885653266},"Stream 8"]
["m_3",100.02393953148407,null,"Temprature"]
["m_4",100.02393456303922]
["m_5",100.0239395332963,null,10]
[null,null,null,null,null,null,null,null,null,null,null,{"$f":"P_0+F_0-G19","v":96325.0000000164},null,null,null,{"$f":"P15+F_1","v":106324.9999999983}]
["Zones","L/m","W/m","z/m","r/(kg/m3)","m/(kg/m s)","DP/Pa"]
["UDD",5,5,0.02,{"$f":"AVERAGE(Sheet3!$E$6,Sheet3!$D$6)","v":0.91163238883018494},{"$f":"AVERAGE(Sheet3!H5,Sheet3!N5)","v":1.8015525711234659E-5},{"$f":"ergun(B14,C14,D14,$B$3,$B$2,F14,E14,m_1)","v":4999.9999999652528}]
["DDD",5,5,0.02,{"$f":"AVERAGE(Sheet3!$H$6,Sheet3!$N$6)","v":1.2214295268058777},{"$f":"AVERAGE(Sheet3!N5,Sheet3!H5)","v":1.8015525711234659E-5},{"$f":"ergun(B15,C15,D15,$B$3,$B$2,F15,E15,m_2)","v":4960.5036324071853},null,null,null,null,null,null,null,null,{"$f":"P_0+F_0-G20","v":96965.338849914056}]
["PH",5,5,0.02,{"$f":"AVERAGE(Sheet3!$O$6,Sheet3!$P$6)","v":1.211829662322998},{"$f":"AVERAGE(Sheet3!O5,Sheet3!P5)","v":1.8125847418559715E-5},{"$f":"ergun(B16,C16,D16,$B$3,$B$2,F16,E16,m_5)","v":562.86807273548595}]
["F",5,5,0.02,{"$f":"AVERAGE(Sheet3!$M$6,Sheet3!$Q$6)","v":1.2118295431137085},{"$f":"AVERAGE(Sheet3!M5,Sheet3!Q5)","v":1.8125847418559715E-5},{"$f":"ergun(B17,C17,D17,$B$3,$B$2,F17,E17,m_4)","v":562.86807271202099}]
["AF",5,5,0.02,{"$f":"AVERAGE(Sheet3!$I$6,Sheet3!$L$6)","v":1.211829662322998},{"$f":"AVERAGE(Sheet3!$L$5,Sheet3!$I$5)","v":1.8125847418559715E-5},{"$f":"ergun(B18,C18,D18,$B$3,$B$2,F18,E18,m_3)","v":562.8680727152888}]
["C1",5,5,0.02,{"$f":"AVERAGE(Sheet3!$G$6,Sheet3!$F$6)","v":1.211829662322998},{"$f":"AVERAGE(Sheet3!F5,Sheet3!G5)","v":1.8125847418559715E-5},{"$f":"ergun(B19,C19,D19,$B$3,$B$2,F19,E19,m_2)","v":4999.9999999835964}]
["C2",5,5,0.02,{"$f":"AVERAGE(Sheet3!$C$6,Sheet3!$D$6)","v":1.046658456325531},{"$f":"AVERAGE(Sheet3!C5,Sheet3!D5)","v":2.0592186046997085E-5},{"$f":"ergun(B20,C20,D20,$B$3,$B$2,F20,E20,m_1)","v":4359.6611500859462},null,null,null,null,null,null,null,null,{"$f":"F_0+P_0","v":101325}]
[null,null,null,null,null,null,null,null,null,null,{"$f":"L12-G16","v":95762.13192728092}]
["Fans","Pa",null,"Pag","Desired Pressure guage"]
["F_0",0,null,{"$f":"L12-101325+5000","v":1.6400008462369442E-8}]
["F_1",9359.6611500842373,null,{"$f":"K24-101325-G15","v":-1.4305442164186388E-8},null,null,null,null,null,null,{"$f":"K21+F_2","v":106285.50363239288}]
["F_2",10523.371705111966,null,{"$f":"P12-5000-101325","v":-1.7025740817189217E-9}]
[null,null,null,{"$f":"SUMSQ(D23:D25)","v":4.7650471158241207E-16}]
["Pressure Balances","Pa"]
[1,{"$f":"P_0+F_0-G20+F_1-G14-P_1","v":3.304739948362112E-8}]
[2,{"$f":"P_0+F_0-G19-G18+F_2-G15-P_2","v":5.893525667488575E-9},null,null,null,null,null,null,null,null,null,{"$f":"K24-G15","v":101324.9999999857}]
[3,{"$f":"G18-G17","v":3.2678144634701312E-9}]
[4,{"$f":"G16-G17","v":2.3464963305741549E-8}]
["SSR",{"$f":"SUMSQ(B28:B31)","v":1.6881473717308501E-15}]
[]
["Mass Balances","kg/s"]
[1,{"$f":"m_0-m_1-m_2","v":-4.4144258026790339E-8}]
[2,{"$f":"m_2-m_3-m_4-m_5","v":5.6668639558665745E-8}]
["SSR",{"$f":"SUMSQ(B35:B36)","v":5.1600502261658195E-15}]
[]
["OF",{"$f":"B32+B37+D26","v":7.3247023094790817E-15}]

{"sheet":"Sheet3","index":1,"n_rows":39,"n_cols":19,"rows_kept":39,"cut":false,"hidden":false,"merged":[]}
["Stream Table"]
[null,1,2,3,4,5,6,7,8,9,10,11,12,13,14,15,16,17,18]
["Temprature K",294.260986328125,294.260986328125,404.32110595703125,378.46096801757813,294.260986328125,294.260986328125,289.6849365234375,294.260986328125,294.260986328125,294.260986328125,294.260986328125,294.260986328125,294.260986328125,294.260986328125,294.260986328125,294.260986328125,295,295]
["Pressure Kpa",102732,102732,102732,102732,102732,102732,102732,102732,102732,102732,102732,102732,102732,102732,102732,102732,102732,102732]
["Viscosity",1.8125847418559715E-5,1.8125847418559715E-5,2.3058524675434455E-5,2.1957095668767579E-5,1.8125847418559715E-5,1.8125847418559715E-5,1.7905204003909603E-5,1.8125847418559715E-5,1.8125847418559715E-5,1.8125847418559715E-5,1.8125847418559715E-5,1.8125847418559715E-5,1.8125847418559715E-5,1.8125847418559715E-5,1.8125847418559715E-5,1.8125847418559715E-5,0,0]
["Density kg/m3",1.211829662322998,1.211829662322998,0.88148725032806396,0.94177752733230591,1.211829662322998,1.211829662322998,1.2310293912887573,1.211829662322998,1.2118295431137085,1.211829662322998,1.211829662322998,1.2118295431137085,1.211829662322998,1.211829662322998,1.211829662322998,1.2118295431137085,0,0]
[]
[]
[]
[]
[]
[]
[]
[]
[]
[null,null,null,null,null,{"$f":"AVERAGE(Sheet3!P5,Sheet3!O5)","v":1.8125847418559715E-5}]
[]
[]
[]
[]
[]
[]
[]
[]
[]
[]
[]
[]
[]
[]
[]
[]
[]
[]
[]
[]
[]
[]
[null,0]

{"sheet":"Sheet2","index":2,"n_rows":39,"n_cols":7,"rows_kept":39,"cut":false,"hidden":false,"merged":[]}
["H2O","UDD/ KJ/kmol","t/K","kg/s","kmol/s","H KW"]
["HIN H20(l)",{"$f":"H_H2O(C2)","v":-279683.80881757772},300,1000,{"$f":"D2/16","v":62.5},{"$f":"B2*E2","v":-17480238.051098607}]
["Hout H2O(g)",{"$f":"H_H2Og(C3)","v":-241956.68814802417},294.260986328125,1000,{"$f":"D3/16","v":62.5},{"$f":"B3*E3","v":-15122293.009251511}]
[null,null,384.44400024414062,null,"H needed",{"$f":"-(F3-F2)/10^6","v":-2.3579450418470969},"MW"]
[]
["H2O","DDD/ KJ/kmol","t/K","kg/s","kmol/s","H KW"]
["HIN H20(l)",{"$f":"H_H2O(C7)","v":-279834.28422244964},298,1000,{"$f":"D7/16","v":62.5},{"$f":"B7*E7","v":-17489642.763903104}]
["Hout H2O(g)",{"$f":"H_H2Og(C8)","v":-241956.68814802417},294.260986328125,1000,{"$f":"D8/16","v":62.5},{"$f":"B8*E8","v":-15122293.009251511}]
[null,0,294.260986328125,null,"H needed",{"$f":"-(F8-F7)/10^6","v":-2.3673497546515931},"MW"]
[null,0]
[null,0]
[]
[]
[]
[]
[]
[]
[]
[]
[]
[]
[]
[null,0]
[null,0]
[null,0]
[]
[]
[]
[]
[]
[]
[]
[]
[]
[]
[]
[]
[]
[null,0]