10.00000000000000
0.00000000000000
0.00000000000000
-10.00000000000000
419976.38019069912843
5152651.39360509626567
