10.00000000000000
0.00000000000000
0.00000000000000
-10.00000000000000
420680.92224012600491
5208226.18517564982176
