200.00000000000000
0.00000000000000
0.00000000000000
-200.00000000000000
403281.48727406107355
5209412.44510526116937
